BEGIN:VCALENDAR
VERSION:2.0
PRODID:-//Plone.org//NONSGML plone.app.event//EN
X-WR-TIMEZONE:Europe/Madrid
BEGIN:VEVENT
SUMMARY:TALLER DE COMPETÈNCIA DIGITAL. Funcions i configuració bàsiques del teu mòbil.
DTSTART;TZID=Europe/Madrid;VALUE=DATE-TIME:20240521T100000
DTEND;TZID=Europe/Madrid;VALUE=DATE-TIME:20240521T110000
DTSTAMP;VALUE=DATE-TIME:20260421T024803Z
UID:d6ba7b1a28e4a2418ab04a1f5d6061a2
CREATED;VALUE=DATE-TIME:20240521T000000Z
CATEGORIES:Cursos
LOCATION:Espai Jove - La Fabriqueta (La Riera 5-9, entrada per Camí Ral).
ORGANIZER:Biblioteca Can Milans i Àrea de Serveis Socials de  l'Ajuntament de Caldes d'Estrac
COMMENT:Preu: Gratuït
Durada: 10 a 12 h.
DESCRIPTION:A càrrec de Fundació Pere Tarrés.
URL:https://caldetes.cat/document.php?id=10000
END:VEVENT
END:VCALENDAR