BEGIN:VCALENDAR
VERSION:2.0
PRODID:-//Plone.org//NONSGML plone.app.event//EN
X-WR-TIMEZONE:Europe/Madrid
BEGIN:VEVENT
SUMMARY:TALLER DE COMPETÈNCIA DIGITAL. Introducció a l´edició de vídeos des del mòbil.
DTSTART;TZID=Europe/Madrid;VALUE=DATE-TIME:20240528T170000
DTEND;TZID=Europe/Madrid;VALUE=DATE-TIME:20240528T180000
DTSTAMP;VALUE=DATE-TIME:20260421T055711Z
UID:5cfbc443f6a42f91463af9ebde2b9709
CREATED;VALUE=DATE-TIME:20240528T000000Z
CATEGORIES:Cursos
LOCATION:Biblioteca Can Milans - C/ Esglèsia, 6
ORGANIZER:Biblioteca Can Milans i Àrea de Serveis Socials de  l'Ajuntament de Caldes d'Estrac
COMMENT:Preu: Gratuït
Durada: 17 a 19h.
DESCRIPTION:A càrrec de Fundació Pere Tarrés.
URL:https://caldetes.cat/document.php?id=10001
END:VEVENT
END:VCALENDAR