BEGIN:VCALENDAR
VERSION:2.0
PRODID:-//Plone.org//NONSGML plone.app.event//EN
X-WR-TIMEZONE:Europe/Madrid
BEGIN:VEVENT
SUMMARY:Xerrada presencial: Com acompanyar la sexualitat de les criatures de 0 a 10 anys.
DTSTART;TZID=Europe/Madrid;VALUE=DATE-TIME:20240529T164500
DTEND;TZID=Europe/Madrid;VALUE=DATE-TIME:20240529T174500
DTSTAMP;VALUE=DATE-TIME:20260424T073815Z
UID:612d2e5464527f822cf32a6cb9373790
CREATED;VALUE=DATE-TIME:20240529T000000Z
CATEGORIES:Conferència
LOCATION:Escola Sagrada Família - Carrer Major, 50
DESCRIPTION:Impartida per Itsane Gaubeca de "Gogara"
URL:https://caldetes.cat/document.php?id=10002
END:VEVENT
END:VCALENDAR