BEGIN:VCALENDAR
VERSION:2.0
PRODID:-//Plone.org//NONSGML plone.app.event//EN
X-WR-TIMEZONE:Europe/Madrid
BEGIN:VEVENT
SUMMARY:Hora del conte: "Contes de ratolins"
DTSTART;TZID=Europe/Madrid;VALUE=DATE-TIME:20110211T180000
DTEND;TZID=Europe/Madrid;VALUE=DATE-TIME:20110211T190000
DTSTAMP;VALUE=DATE-TIME:20260423T163356Z
UID:2d900d7687750f4fe76f36f1c49739b6
CREATED;VALUE=DATE-TIME:20110211T000000Z
LOCATION:Biblioteca Can Milans
ORGANIZER:Biblioteca Can Milans
URL:https://caldetes.cat/document.php?id=1001
END:VEVENT
END:VCALENDAR