BEGIN:VCALENDAR
VERSION:2.0
PRODID:-//Plone.org//NONSGML plone.app.event//EN
X-WR-TIMEZONE:Europe/Madrid
BEGIN:VEVENT
SUMMARY:Hora del conte: "Contes de bruixes, ogres i monstres"
DTSTART;TZID=Europe/Madrid;VALUE=DATE-TIME:20110218T180000
DTEND;TZID=Europe/Madrid;VALUE=DATE-TIME:20110218T190000
DTSTAMP;VALUE=DATE-TIME:20260420T021659Z
UID:9b0ba8aa9badb5619338014deba1b30f
CREATED;VALUE=DATE-TIME:20110218T000000Z
LOCATION:Biblioteca Can Milans
ORGANIZER:Biblioteca Can Milans
URL:https://caldetes.cat/document.php?id=1002
END:VEVENT
END:VCALENDAR