BEGIN:VCALENDAR
VERSION:2.0
PRODID:-//Plone.org//NONSGML plone.app.event//EN
X-WR-TIMEZONE:Europe/Madrid
BEGIN:VEVENT
SUMMARY:Ball popular
DTSTART;TZID=Europe/Madrid;VALUE=DATE-TIME:20110219T190000
DTEND;TZID=Europe/Madrid;VALUE=DATE-TIME:20110219T200000
DTSTAMP;VALUE=DATE-TIME:20260421T005650Z
UID:d3b48c3fa249ece6b95986fc1f572a59
CREATED;VALUE=DATE-TIME:20110219T000000Z
LOCATION:Sala Cultural
ORGANIZER:Agrupació de Pensionistes i Tercera Edat
URL:https://caldetes.cat/document.php?id=1004
END:VEVENT
END:VCALENDAR