BEGIN:VCALENDAR
VERSION:2.0
PRODID:-//Plone.org//NONSGML plone.app.event//EN
X-WR-TIMEZONE:Europe/Madrid
BEGIN:VEVENT
SUMMARY:Sortim a passejar
DTSTART;TZID=Europe/Madrid;VALUE=DATE-TIME:20110209T000000
DTEND;TZID=Europe/Madrid;VALUE=DATE-TIME:20110209T010000
DTSTAMP;VALUE=DATE-TIME:20260423T003336Z
UID:1de184275c2d65afbd42fed9be686766
CREATED;VALUE=DATE-TIME:20110209T000000Z
ORGANIZER:Regidoria Serveis Socials Ajuntament de Caldes d´Estrac
URL:https://caldetes.cat/document.php?id=1008
END:VEVENT
END:VCALENDAR