BEGIN:VCALENDAR
VERSION:2.0
PRODID:-//Plone.org//NONSGML plone.app.event//EN
X-WR-TIMEZONE:Europe/Madrid
BEGIN:VEVENT
SUMMARY:Festival POESIA i + 2024
DTSTART;TZID=Europe/Madrid;VALUE=DATE-TIME:20240706T120000
DTEND;TZID=Europe/Madrid;VALUE=DATE-TIME:20240706T130000
DTSTAMP;VALUE=DATE-TIME:20260424T042145Z
UID:0bf47e4fb27f57ce0f654efe3dbbc285
CREATED;VALUE=DATE-TIME:20240706T000000Z
LOCATION:Altre (ho explico més avall)
COMMENT:Preu: 10 .e
DESCRIPTION:Neus Masdeu, 'Seitons Masdeu Hola i Adeu', amb la col·laboració especial de Josep Pedrals
URL:https://caldetes.cat/document.php?id=10080
END:VEVENT
END:VCALENDAR