BEGIN:VCALENDAR
VERSION:2.0
PRODID:-//Plone.org//NONSGML plone.app.event//EN
X-WR-TIMEZONE:Europe/Madrid
BEGIN:VEVENT
SUMMARY:Festival POESIA i + 2024
DTSTART;TZID=Europe/Madrid;VALUE=DATE-TIME:20240703T210000
DTEND;TZID=Europe/Madrid;VALUE=DATE-TIME:20240703T220000
DTSTAMP;VALUE=DATE-TIME:20260422T164441Z
UID:c630828afa984131ea54b7523595ac09
CREATED;VALUE=DATE-TIME:20240703T000000Z
CATEGORIES:Música
LOCATION:Pèrgola Can Muntanyà - Parc Can Muntanyà
ORGANIZER:Fundació Palau
COMMENT:Preu: 25 euros
DESCRIPTION:Mishima + Martí Sales, Maria Sevilla i Marina Garcés
URL:https://caldetes.cat/document.php?id=10088
END:VEVENT
END:VCALENDAR