BEGIN:VCALENDAR
VERSION:2.0
PRODID:-//Plone.org//NONSGML plone.app.event//EN
X-WR-TIMEZONE:Europe/Madrid
BEGIN:VEVENT
SUMMARY:Espectacle literari: "Jo em donaria a qui em volgués"
DTSTART;TZID=Europe/Madrid;VALUE=DATE-TIME:20110223T190000
DTEND;TZID=Europe/Madrid;VALUE=DATE-TIME:20110223T200000
DTSTAMP;VALUE=DATE-TIME:20260424T071127Z
UID:8760fabcc8bcc1b4402072e7de64db3f
CREATED;VALUE=DATE-TIME:20110223T000000Z
LOCATION:Sala Cultural
ORGANIZER:Ajuntament de Caldes d'Estrac amb el suport del programa Cultura en Gira del Departament de Cultura i Mitjans de Comunicació de la Generalitat de Catalunya
COMMENT:Preu: 2 &euro;
DESCRIPTION:a càrrec de Gemma Reguant
URL:https://caldetes.cat/document.php?id=1011
END:VEVENT
END:VCALENDAR