BEGIN:VCALENDAR
VERSION:2.0
PRODID:-//Plone.org//NONSGML plone.app.event//EN
X-WR-TIMEZONE:Europe/Madrid
BEGIN:VEVENT
SUMMARY:Petanca. Sortida organitzada
DTSTART;TZID=Europe/Madrid;VALUE=DATE-TIME:20110226T000000
DTEND;TZID=Europe/Madrid;VALUE=DATE-TIME:20110226T010000
DTSTAMP;VALUE=DATE-TIME:20260421T005605Z
UID:ed96a0789ea922f3797546e228cd7c4a
CREATED;VALUE=DATE-TIME:20110226T000000Z
ORGANIZER:Club Petanca Caldes d'Estrac
URL:https://caldetes.cat/document.php?id=1012
END:VEVENT
END:VCALENDAR