BEGIN:VCALENDAR
VERSION:2.0
PRODID:-//Plone.org//NONSGML plone.app.event//EN
X-WR-TIMEZONE:Europe/Madrid
BEGIN:VEVENT
SUMMARY:Excursió de l'Agrupació de Pensionistes
DTSTART;TZID=Europe/Madrid;VALUE=DATE-TIME:20110227T000000
DTEND;TZID=Europe/Madrid;VALUE=DATE-TIME:20110227T010000
DTSTAMP;VALUE=DATE-TIME:20260421T095738Z
UID:7dfd7b14d9e28a14adb006a78783b77c
CREATED;VALUE=DATE-TIME:20110227T000000Z
ORGANIZER:Agrupació de Pensionistes i Tercera Edat de Caldes d'Estrac
URL:https://caldetes.cat/document.php?id=1013
END:VEVENT
END:VCALENDAR