BEGIN:VCALENDAR
VERSION:2.0
PRODID:-//Plone.org//NONSGML plone.app.event//EN
X-WR-TIMEZONE:Europe/Madrid
BEGIN:VEVENT
SUMMARY:Sardinada i botifarrada
DTSTART;TZID=Europe/Madrid;VALUE=DATE-TIME:20240803T203000
DTEND;TZID=Europe/Madrid;VALUE=DATE-TIME:20240803T213000
DTSTAMP;VALUE=DATE-TIME:20260421T161153Z
UID:3873ed162e5cd9091f8482e7c028d9cd
CREATED;VALUE=DATE-TIME:20240803T000000Z
CATEGORIES:Festa,Música
LOCATION:Platja de les Barques
ORGANIZER:El Nàutic Caldes d'Estrac
COMMENT:Preu: 10&euro;
URL:https://caldetes.cat/document.php?id=10145
END:VEVENT
END:VCALENDAR