BEGIN:VCALENDAR
VERSION:2.0
PRODID:-//Plone.org//NONSGML plone.app.event//EN
X-WR-TIMEZONE:Europe/Madrid
BEGIN:VEVENT
SUMMARY:Festival POESIA i + 2024
DTSTART;TZID=Europe/Madrid;VALUE=DATE-TIME:20240706T210000
DTEND;TZID=Europe/Madrid;VALUE=DATE-TIME:20240706T220000
DTSTAMP;VALUE=DATE-TIME:20260422T140659Z
UID:da26e1697257c37acdc6153047595a1b
CREATED;VALUE=DATE-TIME:20240706T000000Z
LOCATION:Altre (ho explico més avall)
ORGANIZER:Fundació Palau
COMMENT:Preu: Entrada lliure
DESCRIPTION:Laura Cruet
URL:https://caldetes.cat/document.php?id=10157
END:VEVENT
END:VCALENDAR