BEGIN:VCALENDAR
VERSION:2.0
PRODID:-//Plone.org//NONSGML plone.app.event//EN
X-WR-TIMEZONE:Europe/Madrid
BEGIN:VEVENT
SUMMARY:Torneig de petanca de Festa major sènior
DTSTART;TZID=Europe/Madrid;VALUE=DATE-TIME:20240831T170000
DTEND;TZID=Europe/Madrid;VALUE=DATE-TIME:20240831T180000
DTSTAMP;VALUE=DATE-TIME:20260424T042245Z
UID:4c0d2cb393c4f97623abf3df0af13411
CREATED;VALUE=DATE-TIME:20240831T000000Z
CATEGORIES:Esports
LOCATION:Pistes Municipals de Petanca
ORGANIZER:CLUB PETANCA CALDETES I ÀREA D'ESPORTS
URL:https://caldetes.cat/document.php?id=10172
END:VEVENT
END:VCALENDAR