BEGIN:VCALENDAR
VERSION:2.0
PRODID:-//Plone.org//NONSGML plone.app.event//EN
X-WR-TIMEZONE:Europe/Madrid
BEGIN:VEVENT
SUMMARY:Trobada de jazz Bis amb Elíssima & The Blend Band
DTSTART;TZID=Europe/Madrid;VALUE=DATE-TIME:20240905T203000
DTEND;TZID=Europe/Madrid;VALUE=DATE-TIME:20240905T213000
DTSTAMP;VALUE=DATE-TIME:20260422T175528Z
UID:065dd118b9dfa229b5852420b5bc4879
CREATED;VALUE=DATE-TIME:20240905T000000Z
CATEGORIES:Festa,Música
LOCATION:Esplanada Can Muntanyà
ORGANIZER:ASSOCIACIÓ CULTURAL CAMI RAL 39 VERDURA I CULTURA
COMMENT:Preu: Gratuït
URL:https://caldetes.cat/document.php?id=10175
END:VEVENT
END:VCALENDAR