BEGIN:VCALENDAR
VERSION:2.0
PRODID:-//Plone.org//NONSGML plone.app.event//EN
X-WR-TIMEZONE:Europe/Madrid
BEGIN:VEVENT
SUMMARY:CLUB DE LECTURA.  'Musclos per sopar', de Birgit VANDERBEKE,  i  'Fracàs'  d'Aurora BERTRANA.
DTSTART;TZID=Europe/Madrid;VALUE=DATE-TIME:20241130T110000
DTEND;TZID=Europe/Madrid;VALUE=DATE-TIME:20241130T120000
DTSTAMP;VALUE=DATE-TIME:20260421T225904Z
UID:1277e9133336feba39a7352722854ac8
CREATED;VALUE=DATE-TIME:20241130T000000Z
CATEGORIES:Literatura
LOCATION:Biblioteca Can Milans - C/ Esglèsia, 6
ORGANIZER:Biblioteca Can Milans i Ajuntament de Caldes d'Estrac
COMMENT:Preu: Gratuït
DESCRIPTION:Dinamitza: Èlia Portús
URL:https://caldetes.cat/document.php?id=10215
END:VEVENT
END:VCALENDAR