BEGIN:VCALENDAR
VERSION:2.0
PRODID:-//Plone.org//NONSGML plone.app.event//EN
X-WR-TIMEZONE:Europe/Madrid
BEGIN:VEVENT
SUMMARY:HORA DEL CONTE. Els calaixos del cel.
DTSTART;TZID=Europe/Madrid;VALUE=DATE-TIME:20241122T180000
DTEND;TZID=Europe/Madrid;VALUE=DATE-TIME:20241122T190000
DTSTAMP;VALUE=DATE-TIME:20260424T014615Z
UID:3111a5369e091f1dd70c8717cec1ae78
CREATED;VALUE=DATE-TIME:20241122T000000Z
CATEGORIES:Literatura,Infantils
LOCATION:Biblioteca Can Milans - C/ Esglèsia, 6
ORGANIZER:Biblioteca Can Milans i Ajuntament de Caldes d'Estrac
COMMENT:Preu: Gratuït
DESCRIPTION:A càrrec d´Ada Cusidó.
URL:https://caldetes.cat/document.php?id=10219
END:VEVENT
END:VCALENDAR