BEGIN:VCALENDAR
VERSION:2.0
PRODID:-//Plone.org//NONSGML plone.app.event//EN
X-WR-TIMEZONE:Europe/Madrid
BEGIN:VEVENT
SUMMARY:La biblioteca amb La Marató. Paradeta de llibres solidaris.
DTSTART;TZID=Europe/Madrid;VALUE=DATE-TIME:20241118T000000
DTEND;TZID=Europe/Madrid;VALUE=DATE-TIME:20241118T010000
DTSTAMP;VALUE=DATE-TIME:20260425T003456Z
UID:e2411f35c04f06fa65b8e12ff7b74baf
CREATED;VALUE=DATE-TIME:20241118T000000Z
CATEGORIES:Mostra
LOCATION:Biblioteca Can Milans - C/ Esglèsia, 6
COMMENT:Durada: De 18 al 31 de desembre. De dilluns a divendres, de 15:30 a 20 h. Dimecres, de 10:30 a 13 h. I dissabte, de 10 a 13 h.
URL:https://caldetes.cat/document.php?id=10222
END:VEVENT
END:VCALENDAR