BEGIN:VCALENDAR
VERSION:2.0
PRODID:-//Plone.org//NONSGML plone.app.event//EN
X-WR-TIMEZONE:Europe/Madrid
BEGIN:VEVENT
SUMMARY:CLUB DE LECTURA INFANTIL EN VEU ALTA.
DTSTART;TZID=Europe/Madrid;VALUE=DATE-TIME:20241112T170000
DTEND;TZID=Europe/Madrid;VALUE=DATE-TIME:20241112T180000
DTSTAMP;VALUE=DATE-TIME:20260422T153755Z
UID:cfa94272f718aaafa6e713bae881acec
CREATED;VALUE=DATE-TIME:20241112T000000Z
CATEGORIES:Literatura,Infantils
LOCATION:Biblioteca Can Milans - C/ Esglèsia, 6
ORGANIZER:Biblioteca Can Milans i Ajuntament de Caldes d'Estrac
COMMENT:Preu: Gratuït
DESCRIPTION:A càrrec de Marta Catalan.
URL:https://caldetes.cat/document.php?id=10226
END:VEVENT
END:VCALENDAR