BEGIN:VCALENDAR
VERSION:2.0
PRODID:-//Plone.org//NONSGML plone.app.event//EN
X-WR-TIMEZONE:Europe/Madrid
BEGIN:VEVENT
SUMMARY:CLUB DE LECTURA INFANTIL EN VEU ALTA.
DTSTART;TZID=Europe/Madrid;VALUE=DATE-TIME:20241029T170000
DTEND;TZID=Europe/Madrid;VALUE=DATE-TIME:20241029T180000
DTSTAMP;VALUE=DATE-TIME:20260422T112038Z
UID:ecc9d73f2aea092d91b41e4186378313
CREATED;VALUE=DATE-TIME:20241029T000000Z
CATEGORIES:Literatura,Infantils
LOCATION:Biblioteca Can Milans - C/ Esglèsia, 6
ORGANIZER:Biblioteca Can Milans i Ajuntament de Caldes d'Estrac
COMMENT:Preu: Gratuït
DESCRIPTION:A càrrec de Marta Catalan.
URL:https://caldetes.cat/document.php?id=10231
END:VEVENT
END:VCALENDAR