BEGIN:VCALENDAR
VERSION:2.0
PRODID:-//Plone.org//NONSGML plone.app.event//EN
X-WR-TIMEZONE:Europe/Madrid
BEGIN:VEVENT
SUMMARY:TALLER D´ESCRIPTURA CREATIVA. Conte per a adults.
DTSTART;TZID=Europe/Madrid;VALUE=DATE-TIME:20241025T173000
DTEND;TZID=Europe/Madrid;VALUE=DATE-TIME:20241025T183000
DTSTAMP;VALUE=DATE-TIME:20260423T175936Z
UID:f65ee355688dc516db244d0887523f7d
CREATED;VALUE=DATE-TIME:20241025T000000Z
CATEGORIES:Cursos,Literatura
LOCATION:Biblioteca Can Milans - C/ Esglèsia, 6
ORGANIZER:Biblioteca Can Milans i Ajuntament de Caldes d'Estrac
COMMENT:Preu: Gratuït
Durada: De 17:30 a 19:30 h.
DESCRIPTION:A càrrec de Relleu Cultural.
URL:https://caldetes.cat/document.php?id=10233
END:VEVENT
END:VCALENDAR