BEGIN:VCALENDAR
VERSION:2.0
PRODID:-//Plone.org//NONSGML plone.app.event//EN
X-WR-TIMEZONE:Europe/Madrid
BEGIN:VEVENT
SUMMARY:CLUB DE LECTURA INFANTIL EN VEU ALTA.
DTSTART;TZID=Europe/Madrid;VALUE=DATE-TIME:20241015T170000
DTEND;TZID=Europe/Madrid;VALUE=DATE-TIME:20241015T180000
DTSTAMP;VALUE=DATE-TIME:20260424T014644Z
UID:701dd77229a9426bfd77be0552d487f9
CREATED;VALUE=DATE-TIME:20241015T000000Z
CATEGORIES:Literatura,Infantils
LOCATION:Biblioteca Can Milans - C/ Esglèsia, 6
ORGANIZER:Biblioteca Can Milans i Ajuntament de Caldes d'Estrac
COMMENT:Preu: Gratuït
DESCRIPTION:A càrrec de MARTA CATALAN.
URL:https://caldetes.cat/document.php?id=10236
END:VEVENT
END:VCALENDAR