BEGIN:VCALENDAR
VERSION:2.0
PRODID:-//Plone.org//NONSGML plone.app.event//EN
X-WR-TIMEZONE:Europe/Madrid
BEGIN:VEVENT
SUMMARY:Exposició &OpenCurlyQuote;L´Art de les Ics. Arts i escriptures dels vuitanta i noranta al Fons Joaquim Pibernat´
DTSTART;TZID=Europe/Madrid;VALUE=DATE-TIME:20250421T120000
DTEND;TZID=Europe/Madrid;VALUE=DATE-TIME:20250421T130000
DTSTAMP;VALUE=DATE-TIME:20260421T064835Z
UID:231a750da0bcd65d8aa6c887da766988
CREATED;VALUE=DATE-TIME:20241109T000000Z
CATEGORIES:Exposició
LOCATION:Fundació Palau - La Riera, 54
ORGANIZER:Fundació Palau
COMMENT:Preu: Consultar la web
Durada: Consultar la web
URL:https://caldetes.cat/document.php?id=10246
END:VEVENT
END:VCALENDAR