BEGIN:VCALENDAR
VERSION:2.0
PRODID:-//Plone.org//NONSGML plone.app.event//EN
X-WR-TIMEZONE:Europe/Madrid
BEGIN:VEVENT
SUMMARY:5ª edició del Festival "Tots som indígenes"
DTSTART;TZID=Europe/Madrid;VALUE=DATE-TIME:20241012T160000
DTEND;TZID=Europe/Madrid;VALUE=DATE-TIME:20241012T170000
DTSTAMP;VALUE=DATE-TIME:20260423T145018Z
UID:ba76f45fa4e040d9122fa4800f9bc442
CREATED;VALUE=DATE-TIME:20241012T000000Z
CATEGORIES:Dansa,Festa,Música
LOCATION:Plaça de la Vila
COMMENT:Durada: de 16h a 21h
URL:https://caldetes.cat/document.php?id=10257
END:VEVENT
END:VCALENDAR