BEGIN:VCALENDAR
VERSION:2.0
PRODID:-//Plone.org//NONSGML plone.app.event//EN
X-WR-TIMEZONE:Europe/Madrid
BEGIN:VEVENT
SUMMARY:Presentació del llibre sobre August Maria Argimon i Recoder: un reconeixement a l'exalcalde de Caldes d'Estrac
DTSTART;TZID=Europe/Madrid;VALUE=DATE-TIME:20241019T180000
DTEND;TZID=Europe/Madrid;VALUE=DATE-TIME:20241019T190000
DTSTAMP;VALUE=DATE-TIME:20260421T174236Z
UID:184a0bd30a4e2f97d5283eac539f22da
CREATED;VALUE=DATE-TIME:20241019T000000Z
CATEGORIES:Conferència
LOCATION:Sala Cultural - 1r pis de l'Ajuntament de Caldes d'Estrac, Pl. de la Vila s/n
DESCRIPTION:L'Ajuntament patrocina una nova edició d´aquest llibre dedicat a l'exdirigent republicà.
URL:https://caldetes.cat/document.php?id=10263
END:VEVENT
END:VCALENDAR