BEGIN:VCALENDAR
VERSION:2.0
PRODID:-//Plone.org//NONSGML plone.app.event//EN
X-WR-TIMEZONE:Europe/Madrid
BEGIN:VEVENT
SUMMARY:ELS DIJOUS A LA PALAU
DTSTART;TZID=Europe/Madrid;VALUE=DATE-TIME:20241128T183000
DTEND;TZID=Europe/Madrid;VALUE=DATE-TIME:20241128T193000
DTSTAMP;VALUE=DATE-TIME:20260425T003149Z
UID:5ef6168dfcc30e195ad936ec1fbbe70b
CREATED;VALUE=DATE-TIME:20241128T000000Z
CATEGORIES:Literatura
LOCATION:Fundació Palau - La Riera, 54
ORGANIZER:Fundació Palau
COMMENT:Preu: Accés lliure
Durada: 1h
DESCRIPTION:CICLE JOSEP PALAU I FABRE. RETRAT INACABAT. "El lector invisible de Josep Palau i Fabre"
URL:https://caldetes.cat/document.php?id=10291
END:VEVENT
END:VCALENDAR