BEGIN:VCALENDAR
VERSION:2.0
PRODID:-//Plone.org//NONSGML plone.app.event//EN
X-WR-TIMEZONE:Europe/Madrid
BEGIN:VEVENT
SUMMARY:L´art de les ics. Arts i escriptures dels vuitanta i noranta al Fons Joaquim Pibernat´
DTSTART;TZID=Europe/Madrid;VALUE=DATE-TIME:20250316T120000
DTEND;TZID=Europe/Madrid;VALUE=DATE-TIME:20250316T130000
DTSTAMP;VALUE=DATE-TIME:20260420T142531Z
UID:6c520af41272f6b135f02ab89b71aec0
CREATED;VALUE=DATE-TIME:20250316T000000Z
CATEGORIES:Visita guiada
LOCATION:Fundació Palau - La Riera, 54
ORGANIZER:Fundació Palau
COMMENT:Preu: 8&euro; per persona
Durada: 1h
DESCRIPTION:Visita guiada
URL:https://caldetes.cat/document.php?id=10327
END:VEVENT
END:VCALENDAR