BEGIN:VCALENDAR
VERSION:2.0
PRODID:-//Plone.org//NONSGML plone.app.event//EN
X-WR-TIMEZONE:Europe/Madrid
BEGIN:VEVENT
SUMMARY:Nit de música i festa amb: TresX3Music i tot seguit DJ Henry Jones
DTSTART;TZID=Europe/Madrid;VALUE=DATE-TIME:20241213T230000
DTEND;TZID=Europe/Madrid;VALUE=DATE-TIME:20241214T000000
DTSTAMP;VALUE=DATE-TIME:20260422T181140Z
UID:1aa0c682519a4f25ad693f6fdbb9dc70
CREATED;VALUE=DATE-TIME:20241213T000000Z
CATEGORIES:Festa,Música
LOCATION:Sala Cultural - 1r pis de l'Ajuntament de Caldes d'Estrac, Pl. de la Vila s/n
URL:https://caldetes.cat/document.php?id=10346
END:VEVENT
END:VCALENDAR