BEGIN:VCALENDAR
VERSION:2.0
PRODID:-//Plone.org//NONSGML plone.app.event//EN
X-WR-TIMEZONE:Europe/Madrid
BEGIN:VEVENT
SUMMARY:CONFERÈNCIA. La saviesa de les paraules. L´etimologia curiosa dels mots.
DTSTART;TZID=Europe/Madrid;VALUE=DATE-TIME:20250221T180000
DTEND;TZID=Europe/Madrid;VALUE=DATE-TIME:20250221T190000
DTSTAMP;VALUE=DATE-TIME:20260424T213715Z
UID:303ccff47872229956a41dd64804bfb2
CREATED;VALUE=DATE-TIME:20250221T000000Z
CATEGORIES:Conferència
LOCATION:Biblioteca Can Milans - C/ Esglèsia, 6
ORGANIZER:Biblioteca Can Milans. Ajuntament de Caldes d'Estrac
COMMENT:Preu: Gratuït
DESCRIPTION:A càrrec de Joan de Gispert.
URL:https://caldetes.cat/document.php?id=10361
END:VEVENT
END:VCALENDAR