BEGIN:VCALENDAR
VERSION:2.0
PRODID:-//Plone.org//NONSGML plone.app.event//EN
X-WR-TIMEZONE:Europe/Madrid
BEGIN:VEVENT
SUMMARY:Parada de Productes de l'Índia
DTSTART;TZID=Europe/Madrid;VALUE=DATE-TIME:20110306T110000
DTEND;TZID=Europe/Madrid;VALUE=DATE-TIME:20110306T120000
DTSTAMP;VALUE=DATE-TIME:20260421T111844Z
UID:4e7aeebd9e4d2b5ef8fb83e44c8b283f
CREATED;VALUE=DATE-TIME:20110306T000000Z
LOCATION:Parc Joan Maragall
ORGANIZER:Associació "El Somriure dels Nens"
COMMENT:Durada: 3:30 hores
URL:https://caldetes.cat/document.php?id=1037
END:VEVENT
END:VCALENDAR