BEGIN:VCALENDAR
VERSION:2.0
PRODID:-//Plone.org//NONSGML plone.app.event//EN
X-WR-TIMEZONE:Europe/Madrid
BEGIN:VEVENT
SUMMARY:Els diumenges de la Fundació
DTSTART;TZID=Europe/Madrid;VALUE=DATE-TIME:20110306T120000
DTEND;TZID=Europe/Madrid;VALUE=DATE-TIME:20110306T130000
DTSTAMP;VALUE=DATE-TIME:20260421T140239Z
UID:7d511bb717a6a9ab37ab18fac39b4d8c
CREATED;VALUE=DATE-TIME:20110306T000000Z
LOCATION:Fundació Palau
ORGANIZER:Fundació Palau
DESCRIPTION:Taller: "I tu quina lletra ets?"
URL:https://caldetes.cat/document.php?id=1038
END:VEVENT
END:VCALENDAR