BEGIN:VCALENDAR
VERSION:2.0
PRODID:-//Plone.org//NONSGML plone.app.event//EN
X-WR-TIMEZONE:Europe/Madrid
BEGIN:VEVENT
SUMMARY:Inauguració de l'exposició "Dones d'empresa"
DTSTART;TZID=Europe/Madrid;VALUE=DATE-TIME:20110305T190000
DTEND;TZID=Europe/Madrid;VALUE=DATE-TIME:20110305T200000
DTSTAMP;VALUE=DATE-TIME:20260421T095453Z
UID:6a90b9a294f3aff5275dd4bf263be361
CREATED;VALUE=DATE-TIME:20110305T000000Z
LOCATION:Equipament de Promoció Econòmica i Cultural
ORGANIZER:Associació Arts i Lletres amb la col·laboració de l'Associació Dones de Caldes d'Estrac i el suport de l'Ajuntament de Caldes d'Estrac
URL:https://caldetes.cat/document.php?id=1039
END:VEVENT
END:VCALENDAR