BEGIN:VCALENDAR
VERSION:2.0
PRODID:-//Plone.org//NONSGML plone.app.event//EN
X-WR-TIMEZONE:Europe/Madrid
BEGIN:VEVENT
SUMMARY:Tertúlies de cafè
DTSTART;TZID=Europe/Madrid;VALUE=DATE-TIME:20110309T170000
DTEND;TZID=Europe/Madrid;VALUE=DATE-TIME:20110309T180000
DTSTAMP;VALUE=DATE-TIME:20260426T012533Z
UID:42e346ad2f4715dbcaebd5cccb38b18b
CREATED;VALUE=DATE-TIME:20110309T000000Z
LOCATION:Fundació Palau
ORGANIZER:Fundació Palau
COMMENT:Durada: 2 hores
URL:https://caldetes.cat/document.php?id=1041
END:VEVENT
END:VCALENDAR