BEGIN:VCALENDAR
VERSION:2.0
PRODID:-//Plone.org//NONSGML plone.app.event//EN
X-WR-TIMEZONE:Europe/Madrid
BEGIN:VEVENT
SUMMARY:Tertúlies de cafè
DTSTART;TZID=Europe/Madrid;VALUE=DATE-TIME:20110316T170000
DTEND;TZID=Europe/Madrid;VALUE=DATE-TIME:20110316T180000
DTSTAMP;VALUE=DATE-TIME:20260424T083450Z
UID:a5db99498c49553ddee5140958203c4f
CREATED;VALUE=DATE-TIME:20110316T000000Z
LOCATION:Fundació Palau
ORGANIZER:Fundació Palau
COMMENT:Durada: 2 hores
URL:https://caldetes.cat/document.php?id=1042
END:VEVENT
END:VCALENDAR