BEGIN:VCALENDAR
VERSION:2.0
PRODID:-//Plone.org//NONSGML plone.app.event//EN
X-WR-TIMEZONE:Europe/Madrid
BEGIN:VEVENT
SUMMARY:Hora del conte: "Les lletres del lletrat abecedari"
DTSTART;TZID=Europe/Madrid;VALUE=DATE-TIME:20110311T180000
DTEND;TZID=Europe/Madrid;VALUE=DATE-TIME:20110311T190000
DTSTAMP;VALUE=DATE-TIME:20260422T225635Z
UID:3022907b8799f8e9e63fcbd48ca3b686
CREATED;VALUE=DATE-TIME:20110311T000000Z
LOCATION:Biblioteca Can Milans
ORGANIZER:Biblioteca Can Milans
URL:https://caldetes.cat/document.php?id=1043
END:VEVENT
END:VCALENDAR