BEGIN:VCALENDAR
VERSION:2.0
PRODID:-//Plone.org//NONSGML plone.app.event//EN
X-WR-TIMEZONE:Europe/Madrid
BEGIN:VEVENT
SUMMARY:Presentació dels "Amics dels clàssics" i lectura de fragments dels clàssics medievals
DTSTART;TZID=Europe/Madrid;VALUE=DATE-TIME:20110312T180000
DTEND;TZID=Europe/Madrid;VALUE=DATE-TIME:20110312T190000
DTSTAMP;VALUE=DATE-TIME:20260423T082236Z
UID:401cc7f7fa82270e06adc62c114f726a
CREATED;VALUE=DATE-TIME:20110312T000000Z
LOCATION:Fundació Palau
ORGANIZER:Editorial Barcino, amb la col·laboració de la Fundació Palau i Arts i Lletres
URL:https://caldetes.cat/document.php?id=1045
END:VEVENT
END:VCALENDAR