BEGIN:VCALENDAR
VERSION:2.0
PRODID:-//Plone.org//NONSGML plone.app.event//EN
X-WR-TIMEZONE:Europe/Madrid
BEGIN:VEVENT
SUMMARY:Sessió pública informativa
DTSTART;TZID=Europe/Madrid;VALUE=DATE-TIME:20110326T180000
DTEND;TZID=Europe/Madrid;VALUE=DATE-TIME:20110326T190000
DTSTAMP;VALUE=DATE-TIME:20260424T200648Z
UID:6e7407f62d468d6545968dc84aa5876e
CREATED;VALUE=DATE-TIME:20110326T000000Z
LOCATION:Sala Cultural
DESCRIPTION:a càrrec de l'Alcalde de Caldes d'Estrac
URL:https://caldetes.cat/document.php?id=1049
END:VEVENT
END:VCALENDAR