BEGIN:VCALENDAR
VERSION:2.0
PRODID:-//Plone.org//NONSGML plone.app.event//EN
X-WR-TIMEZONE:Europe/Madrid
BEGIN:VEVENT
SUMMARY:Hora del conte amb titelles
DTSTART;TZID=Europe/Madrid;VALUE=DATE-TIME:20110325T180000
DTEND;TZID=Europe/Madrid;VALUE=DATE-TIME:20110325T190000
DTSTAMP;VALUE=DATE-TIME:20260425T132227Z
UID:3fd1d616b2ae4163ad6dc9234a87c03b
CREATED;VALUE=DATE-TIME:20110325T000000Z
LOCATION:Biblioteca Can Milans
ORGANIZER:Biblioteca Can Milans
URL:https://caldetes.cat/document.php?id=1050
END:VEVENT
END:VCALENDAR