BEGIN:VCALENDAR
VERSION:2.0
PRODID:-//Plone.org//NONSGML plone.app.event//EN
X-WR-TIMEZONE:Europe/Madrid
BEGIN:VEVENT
SUMMARY:Cicle de filosofia. &OpenCurlyQuote;L´alquímia de les idees´: Nietzsche a Catalunya a càrrec d´Oriol Ponsatí-Murlà
DTSTART;TZID=Europe/Madrid;VALUE=DATE-TIME:20250424T183000
DTEND;TZID=Europe/Madrid;VALUE=DATE-TIME:20250424T193000
DTSTAMP;VALUE=DATE-TIME:20260422T100553Z
UID:03da6e499fe46cf08bec56f0ff19c2e2
CREATED;VALUE=DATE-TIME:20250424T000000Z
CATEGORIES:Literatura,Conferència
LOCATION:Fundació Palau - La Riera, 54
ORGANIZER:Fundació Palau
COMMENT:Preu: Accés lliure
DESCRIPTION:Els dijous a la Palau
URL:https://caldetes.cat/document.php?id=10501
END:VEVENT
END:VCALENDAR