BEGIN:VCALENDAR
VERSION:2.0
PRODID:-//Plone.org//NONSGML plone.app.event//EN
X-WR-TIMEZONE:Europe/Madrid
BEGIN:VEVENT
SUMMARY:Taller: Construïm el Rei Carnestoltes
DTSTART;TZID=Europe/Madrid;VALUE=DATE-TIME:20110228T000000
DTEND;TZID=Europe/Madrid;VALUE=DATE-TIME:20110228T010000
DTSTAMP;VALUE=DATE-TIME:20260421T095759Z
UID:e37e142b2b641d0a5662c87e84b6c490
CREATED;VALUE=DATE-TIME:20110228T000000Z
LOCATION:Espai Jove
ORGANIZER:Espai Jove
DESCRIPTION:Farem el Rei més transgressor que mai s´ha vist a Caldes.
URL:https://caldetes.cat/document.php?id=1051
END:VEVENT
END:VCALENDAR