BEGIN:VCALENDAR
VERSION:2.0
PRODID:-//Plone.org//NONSGML plone.app.event//EN
X-WR-TIMEZONE:Europe/Madrid
BEGIN:VEVENT
SUMMARY:Taller: Construïm el Rei Carnestoltes
DTSTART;TZID=Europe/Madrid;VALUE=DATE-TIME:20110302T170000
DTEND;TZID=Europe/Madrid;VALUE=DATE-TIME:20110302T180000
DTSTAMP;VALUE=DATE-TIME:20260421T064905Z
UID:a6646b2f4243e1fa55cbd1fc584d9e85
CREATED;VALUE=DATE-TIME:20110302T000000Z
LOCATION:Espai Jove
ORGANIZER:Espai Jove
DESCRIPTION:Farem el Rei més transgressor que mai s´ha vist a Caldes.
URL:https://caldetes.cat/document.php?id=1053
END:VEVENT
END:VCALENDAR