BEGIN:VCALENDAR
VERSION:2.0
PRODID:-//Plone.org//NONSGML plone.app.event//EN
X-WR-TIMEZONE:Europe/Madrid
BEGIN:VEVENT
SUMMARY:Rua de Carnaval
DTSTART;TZID=Europe/Madrid;VALUE=DATE-TIME:20110305T220000
DTEND;TZID=Europe/Madrid;VALUE=DATE-TIME:20110305T230000
DTSTAMP;VALUE=DATE-TIME:20260421T064850Z
UID:f540a664e4b15aa0d226f21df7e352ed
CREATED;VALUE=DATE-TIME:20110305T000000Z
ORGANIZER:Ajuntament de Caldes d'Estrac amb la col·laboració del Col·lectiu Carnestoltes
URL:https://caldetes.cat/document.php?id=1055
END:VEVENT
END:VCALENDAR