BEGIN:VCALENDAR
VERSION:2.0
PRODID:-//Plone.org//NONSGML plone.app.event//EN
X-WR-TIMEZONE:Europe/Madrid
BEGIN:VEVENT
SUMMARY:Ball de Carnaval
DTSTART;TZID=Europe/Madrid;VALUE=DATE-TIME:20110305T230000
DTEND;TZID=Europe/Madrid;VALUE=DATE-TIME:20110306T000000
DTSTAMP;VALUE=DATE-TIME:20260421T110457Z
UID:c15aa39ec66cbd1295cd8c66511f38ac
CREATED;VALUE=DATE-TIME:20110305T000000Z
LOCATION:Pavelló Poliesportiu Municipal
ORGANIZER:Ajuntament de Caldes d'Estrac
DESCRIPTION:A càrrec del conjunt &OpenCurlyDoubleQuote;ELS MAGIC´S&CloseCurlyDoubleQuote;
URL:https://caldetes.cat/document.php?id=1056
END:VEVENT
END:VCALENDAR