BEGIN:VCALENDAR
VERSION:2.0
PRODID:-//Plone.org//NONSGML plone.app.event//EN
X-WR-TIMEZONE:Europe/Madrid
BEGIN:VEVENT
SUMMARY:Carnaval infantil
DTSTART;TZID=Europe/Madrid;VALUE=DATE-TIME:20110306T180000
DTEND;TZID=Europe/Madrid;VALUE=DATE-TIME:20110306T190000
DTSTAMP;VALUE=DATE-TIME:20260421T152752Z
UID:617f3848e37b50dbef41a0e5cead6560
CREATED;VALUE=DATE-TIME:20110306T000000Z
LOCATION:Sala Cultural
ORGANIZER:Ajuntament de Caldes d'Estrac
DESCRIPTION:Amb el grup d´animació infantil &OpenCurlyDoubleQuote;ORQUESTRINA DELS NAPS&CloseCurlyDoubleQuote;
URL:https://caldetes.cat/document.php?id=1057
END:VEVENT
END:VCALENDAR