BEGIN:VCALENDAR
VERSION:2.0
PRODID:-//Plone.org//NONSGML plone.app.event//EN
X-WR-TIMEZONE:Europe/Madrid
BEGIN:VEVENT
SUMMARY:Crema de Sa Majestat Carnestoltes i Sardinada popular
DTSTART;TZID=Europe/Madrid;VALUE=DATE-TIME:20110309T200000
DTEND;TZID=Europe/Madrid;VALUE=DATE-TIME:20110309T210000
DTSTAMP;VALUE=DATE-TIME:20260423T062526Z
UID:781c299602427c70c6b75547bd54b9e0
CREATED;VALUE=DATE-TIME:20110309T000000Z
LOCATION:Esplanada Can Muntanyà
ORGANIZER:Associació de Pescadors amb el suport de l'Ajuntament de Caldes d'Estrac
URL:https://caldetes.cat/document.php?id=1058
END:VEVENT
END:VCALENDAR