BEGIN:VCALENDAR
VERSION:2.0
PRODID:-//Plone.org//NONSGML plone.app.event//EN
X-WR-TIMEZONE:Europe/Madrid
BEGIN:VEVENT
SUMMARY:Visita guiada a la col·lecció permanent de la Fundació Palau
DTSTART;TZID=Europe/Madrid;VALUE=DATE-TIME:20250629T120000
DTEND;TZID=Europe/Madrid;VALUE=DATE-TIME:20250629T130000
DTSTAMP;VALUE=DATE-TIME:20260422T002240Z
UID:946962321baea98109ed43f9138cea34
CREATED;VALUE=DATE-TIME:20250629T000000Z
CATEGORIES:Exposició
LOCATION:Fundació Palau - La Riera, 54
ORGANIZER:Fundació Palau
COMMENT:Preu: 8&euro;
Durada: 1h
URL:https://caldetes.cat/document.php?id=10611
END:VEVENT
END:VCALENDAR