BEGIN:VCALENDAR
VERSION:2.0
PRODID:-//Plone.org//NONSGML plone.app.event//EN
X-WR-TIMEZONE:Europe/Madrid
BEGIN:VEVENT
SUMMARY:El monòleg del Contracte
DTSTART;TZID=Europe/Madrid;VALUE=DATE-TIME:20250709T181500
DTEND;TZID=Europe/Madrid;VALUE=DATE-TIME:20250709T191500
DTSTAMP;VALUE=DATE-TIME:20260422T140742Z
UID:a770ea8f05aee1e3a363c3ee5df85042
CREATED;VALUE=DATE-TIME:20250709T000000Z
CATEGORIES:Cinema,Literatura,Teatre
LOCATION:Fundació Palau - La Riera, 54
ORGANIZER:Fundació Palau
COMMENT:Preu: Entrada gratuïta (amb reserva prèvia)
DESCRIPTION:Festival Poesia i + 2025
URL:https://caldetes.cat/document.php?id=10637
END:VEVENT
END:VCALENDAR