BEGIN:VCALENDAR
VERSION:2.0
PRODID:-//Plone.org//NONSGML plone.app.event//EN
X-WR-TIMEZONE:Europe/Madrid
BEGIN:VEVENT
SUMMARY:Fades
DTSTART;TZID=Europe/Madrid;VALUE=DATE-TIME:20250712T220000
DTEND;TZID=Europe/Madrid;VALUE=DATE-TIME:20250712T230000
DTSTAMP;VALUE=DATE-TIME:20260422T060532Z
UID:89181240014ebe5b398e51412a7080c6
CREATED;VALUE=DATE-TIME:20250712T000000Z
CATEGORIES:Música
LOCATION:Pèrgola Can Muntanyà - Parc Can Muntanyà
ORGANIZER:Fundació Palau
COMMENT:Preu: 25
DESCRIPTION:Festival Poesia i + 2025
URL:https://caldetes.cat/document.php?id=10646
END:VEVENT
END:VCALENDAR