BEGIN:VCALENDAR
VERSION:2.0
PRODID:-//Plone.org//NONSGML plone.app.event//EN
X-WR-TIMEZONE:Europe/Madrid
BEGIN:VEVENT
SUMMARY:Mínim món, teatre de titelles. Espectacle familiar
DTSTART;TZID=Europe/Madrid;VALUE=DATE-TIME:20250712T120000
DTEND;TZID=Europe/Madrid;VALUE=DATE-TIME:20250712T130000
DTSTAMP;VALUE=DATE-TIME:20260422T040706Z
UID:c268b2f3aa71e50620ad54bf52203eb2
CREATED;VALUE=DATE-TIME:20250712T000000Z
CATEGORIES:Infantils,Teatre
LOCATION:Sala Cultural - 1r pis de l'Ajuntament de Caldes d'Estrac, Pl. de la Vila s/n
ORGANIZER:Fundació Palau
COMMENT:Preu: 3
DESCRIPTION:Festival Poesia i + 2025
URL:https://caldetes.cat/document.php?id=10652
END:VEVENT
END:VCALENDAR